BEGIN:VCALENDAR
VERSION:2.0
PRODID:-//wp-events-plugin.com//7.2.3.1//EN
BEGIN:VEVENT
UID:21@nvtsjechie.com
DTSTART;TZID=Europe/Prague:20250323T160000
DTEND;TZID=Europe/Prague:20250323T174500
DTSTAMP:20250223T155450Z
URL:https://nvtsjechie.com/evenementen/ritje-door-praag-in-de-historische-
 tram/
SUMMARY:Ritje door Praag in de historische tram
DESCRIPTION:Ha allemaal\,\n\nGraag nodigen wij jullie uit voor een ritje do
 or Praag in de historische tram!\n\nOp zondagmiddag 23 maart stappen wij o
 p bij halte Špejchar\, en rijden wij vervolgens\, begeleid door een gids\
 , een prachtige route door Praag. Anderhalf uur later zullen wij weer op d
 ezelfde plek uitstappen.\n\nDit evenement is gratis voor leden en niet-led
 en betalen 250 kč per persoon. Voor deze prijs krijg je de rit én wat le
 kkers te drinken/snacken voor onderweg.\n\nDe tram heeft een beperkte capa
 citeit\, dus wacht niet te lang met aanmelden! VOL=VOL\n\nGaan jullie met 
 ons mee?\nLocatie\nTramhalte Špejchar\nDeze halte zit naast Letná en sch
 uin tegenover het Sparta stadion. Zie de precieze locatie hier: https://ma
 ps.app.goo.gl/QtG7hsCEhJ3BFbgw7
ATTACH;FMTTYPE=image/jpeg:https://nvtsjechie.com/wp-content/uploads/2024/1
 2/Prague-tram-min.jpg
END:VEVENT
BEGIN:VTIMEZONE
TZID:Europe/Prague
X-LIC-LOCATION:Europe/Prague
BEGIN:STANDARD
DTSTART:20241027T020000
TZOFFSETFROM:+0200
TZOFFSETTO:+0100
TZNAME:CET
END:STANDARD
END:VTIMEZONE
END:VCALENDAR