BEGIN:VCALENDAR
VERSION:2.0
PRODID:-//wp-events-plugin.com//7.2.3.1//EN
BEGIN:VEVENT
UID:8@nvtsjechie.com
DTSTART;TZID=Europe/Prague:20240211T110000
DTEND;TZID=Europe/Prague:20240211T123000
DTSTAMP:20240126T090933Z
URL:https://nvtsjechie.com/evenementen/schaatsen/
SUMMARY:Schaatsen
DESCRIPTION:Ha allemaal\,\n\nGraag nodigen we jullie uit om met ons te kome
 n schaatsen op zondag 11 februari van 11-12 uur bij River Rink in Karlín.
 Na afloop warmen we nog even samen op onder het genot van een warme chocol
 ademelk in de Apres-Skate Bar.\n\nMeenemen\n\n 	Goede handschoenen\n 	Scha
 atsen (indien je die hebt\, anders huren we ze daar)\n 	Multisport kaart (
 indien je die hebt)\n\nBereikbaarheid\nBereikbaarheid: vanaf tramhalte Kar
 línské náměstí 5 min. lopen\, vanaf metrohalte Křižíkova (B-lijn) 
 8 min. lopen. Ook kun je in het weekend gratis parkeren in the Pobřežní
  straat (5 min. lopen).\n\nZien we jullie de 11e op het ijs?
ATTACH;FMTTYPE=image/jpeg:https://nvtsjechie.com/wp-content/uploads/2024/0
 1/Schaatsen-min.jpg
LOCATION:River Rink\, Karolínska 8\, Praha\, 186 00\, Tsjechië
X-APPLE-STRUCTURED-LOCATION;VALUE=URI;X-ADDRESS=Karolínska 8\, Praha\, 186
  00\, Tsjechië;X-APPLE-RADIUS=100;X-TITLE=River Rink:geo:0,0
END:VEVENT
BEGIN:VTIMEZONE
TZID:Europe/Prague
X-LIC-LOCATION:Europe/Prague
BEGIN:STANDARD
DTSTART:20231029T020000
TZOFFSETFROM:+0200
TZOFFSETTO:+0100
TZNAME:CET
END:STANDARD
END:VTIMEZONE
END:VCALENDAR